Workbook

Sheet Instruccions
A1: Control de la Loteria de Nadal del club
A2: Plantilla facilitada per Playoff · playoffinformatica.com
A4: 1. A «Dades del sorteig», escriu el número, els dècims comprats, el donatiu i el preu de cada participació.
A5: 2. A «Talonaris», apunta cada talonari que lliures: responsable, telèfon i quantes participacions porta.
A6: 3. Cada vegada que algú torni diners, actualitza les venudes i el lliurat. El pendent es calcula sol.
A7: 4. «Resum» et dona la recaptació total, el que falta per cobrar i el donatiu que queda per al club.
A8: Les cel·les blaves són per escriure. La resta es calcula sola. La fila 5 de «Talonaris» és un exemple: esborra-la.
A9: Fixa una data de liquidació (per exemple, el 15 de desembre) i comunica-la a tots els responsables.

Sheet Dades del sorteig
A1: Dades del sorteig
A2: Omple les cel·les blaves
A4: Número jugat | B4: 00000
A5: Núm. de dècims comprats | B5: 50
A6: Donatiu per participació (€) | B6: 1
A7: Preu de la participació, jugat + donatiu (€) | B7: 5
A8: Preu del dècim (€) | B8: 20

Sheet Talonaris
A1: Talonaris
A2: Una fila per talonari
A4: Núm. talonari | B4: Responsable | C4: Telèfon | D4: Participacions lliurades | E4: Venudes | F4: Sense vendre | G4: Import a lliurar | H4: Lliurat | I4: Pendent | J4: Donatiu recaptat | K4: Estat
A5: 1 | B5: Exemple: Marta (cadet) | C5: 600 000 000 | D5: 50 | E5: 40 | F5: =IF(D5="","",D5-N(E5)) | G5: =IF(E5="","",E5*'Dades del sorteig'!$B$7) | H5: 150 | I5: =IF(G5="","",G5-N(H5)) | J5: =IF(E5="","",E5*'Dades del sorteig'!$B$6) | K5: En venda
A6: 2 | F6: =IF(D6="","",D6-N(E6)) | G6: =IF(E6="","",E6*'Dades del sorteig'!$B$7) | I6: =IF(G6="","",G6-N(H6)) | J6: =IF(E6="","",E6*'Dades del sorteig'!$B$6)
A7: 3 | F7: =IF(D7="","",D7-N(E7)) | G7: =IF(E7="","",E7*'Dades del sorteig'!$B$7) | I7: =IF(G7="","",G7-N(H7)) | J7: =IF(E7="","",E7*'Dades del sorteig'!$B$6)
A8: 4 | F8: =IF(D8="","",D8-N(E8)) | G8: =IF(E8="","",E8*'Dades del sorteig'!$B$7) | I8: =IF(G8="","",G8-N(H8)) | J8: =IF(E8="","",E8*'Dades del sorteig'!$B$6)
A9: 5 | F9: =IF(D9="","",D9-N(E9)) | G9: =IF(E9="","",E9*'Dades del sorteig'!$B$7) | I9: =IF(G9="","",G9-N(H9)) | J9: =IF(E9="","",E9*'Dades del sorteig'!$B$6)
A10: 6 | F10: =IF(D10="","",D10-N(E10)) | G10: =IF(E10="","",E10*'Dades del sorteig'!$B$7) | I10: =IF(G10="","",G10-N(H10)) | J10: =IF(E10="","",E10*'Dades del sorteig'!$B$6)
A11: 7 | F11: =IF(D11="","",D11-N(E11)) | G11: =IF(E11="","",E11*'Dades del sorteig'!$B$7) | I11: =IF(G11="","",G11-N(H11)) | J11: =IF(E11="","",E11*'Dades del sorteig'!$B$6)
A12: 8 | F12: =IF(D12="","",D12-N(E12)) | G12: =IF(E12="","",E12*'Dades del sorteig'!$B$7) | I12: =IF(G12="","",G12-N(H12)) | J12: =IF(E12="","",E12*'Dades del sorteig'!$B$6)
A13: 9 | F13: =IF(D13="","",D13-N(E13)) | G13: =IF(E13="","",E13*'Dades del sorteig'!$B$7) | I13: =IF(G13="","",G13-N(H13)) | J13: =IF(E13="","",E13*'Dades del sorteig'!$B$6)
A14: 10 | F14: =IF(D14="","",D14-N(E14)) | G14: =IF(E14="","",E14*'Dades del sorteig'!$B$7) | I14: =IF(G14="","",G14-N(H14)) | J14: =IF(E14="","",E14*'Dades del sorteig'!$B$6)
A15: 11 | F15: =IF(D15="","",D15-N(E15)) | G15: =IF(E15="","",E15*'Dades del sorteig'!$B$7) | I15: =IF(G15="","",G15-N(H15)) | J15: =IF(E15="","",E15*'Dades del sorteig'!$B$6)
A16: 12 | F16: =IF(D16="","",D16-N(E16)) | G16: =IF(E16="","",E16*'Dades del sorteig'!$B$7) | I16: =IF(G16="","",G16-N(H16)) | J16: =IF(E16="","",E16*'Dades del sorteig'!$B$6)
A17: 13 | F17: =IF(D17="","",D17-N(E17)) | G17: =IF(E17="","",E17*'Dades del sorteig'!$B$7) | I17: =IF(G17="","",G17-N(H17)) | J17: =IF(E17="","",E17*'Dades del sorteig'!$B$6)
... A44: 40 | F44: =IF(D44="","",D44-N(E44)) | G44: =IF(E44="","",E44*'Dades del sorteig'!$B$7) | I44: =IF(G44="","",G44-N(H44)) | J44: =IF(E44="","",E44*'Dades del sorteig'!$B$6)

Sheet Resum
A1: Resum
A2: Es calcula sol a partir dels altres fulls
A4: Talonaris repartits | B4: =COUNTA('Talonaris'!B5:B44)
A5: Participacions lliurades | B5: =SUM('Talonaris'!D5:D44)
A6: Participacions venudes | B6: =SUM('Talonaris'!E5:E44)
A7: Import total a recaptar | B7: =SUM('Talonaris'!G5:G44)
A8: Diners ja lliurats | B8: =SUM('Talonaris'!H5:H44)
A9: Pendent de cobrar | B9: =SUM('Talonaris'!I5:I44)
A10: Cost dels dècims | B10: ='Dades del sorteig'!B5*'Dades del sorteig'!B8
A11: Import jugat venut (sense donatiu) | B11: =B6*('Dades del sorteig'!B7-'Dades del sorteig'!B6)
A12: Donatiu per al club | B12: =SUM('Talonaris'!J5:J44)
A14: Compara l’«import jugat venut» amb el cost dels dècims: si és menor, el club assumeix la diferència en participacions no venudes.
